BEGIN:VCALENDAR
VERSION:2.0
PRODID:-//Wheels Up Bike Clinics, Teams, and Summer Camps. - ECPv5.16.1.1//NONSGML v1.0//EN
CALSCALE:GREGORIAN
METHOD:PUBLISH
X-ORIGINAL-URL:https://wheelsupmtb.com
X-WR-CALDESC:Events for Wheels Up Bike Clinics, Teams, and Summer Camps.
REFRESH-INTERVAL;VALUE=DURATION:PT1H
X-Robots-Tag:noindex
X-PUBLISHED-TTL:PT1H
BEGIN:VTIMEZONE
TZID:America/New_York
BEGIN:DAYLIGHT
TZOFFSETFROM:-0500
TZOFFSETTO:-0400
TZNAME:EDT
DTSTART:20220313T070000
END:DAYLIGHT
BEGIN:STANDARD
TZOFFSETFROM:-0400
TZOFFSETTO:-0500
TZNAME:EST
DTSTART:20221106T060000
END:STANDARD
END:VTIMEZONE
BEGIN:VEVENT
DTSTART;VALUE=DATE:20220808
DTEND;VALUE=DATE:20220813
DTSTAMP:20260423T114900
CREATED:20220622T185802Z
LAST-MODIFIED:20220718T173442Z
UID:1391-1659916800-1660348799@wheelsupmtb.com
SUMMARY:Wild Things End of Summer Camp
DESCRIPTION:August 8th-12th @ Fairway Elementary – Grades 2-6\n9:00am-12:00pm The Best PE Games $160 Max 60\n12:30pm-3:30pm Mountain Biking $180 Max 20!\n9:00am-3:30pm Both Camps all day $300!\nLearn More & Register
URL:https://wheelsupmtb.com/event/wild-things-end-of-summer-camp/
LOCATION:Fairway Elementary School\, 480 Old Fairway Dr\, Wildwood\, MO\, 63040
CATEGORIES:St. Louis Area,Youth Programs
END:VEVENT
END:VCALENDAR