BEGIN:VCALENDAR
VERSION:2.0
PRODID:-//Wheels Up Bike Clinics, Teams, and Summer Camps. - ECPv5.16.1.1//NONSGML v1.0//EN
CALSCALE:GREGORIAN
METHOD:PUBLISH
X-ORIGINAL-URL:https://wheelsupmtb.com
X-WR-CALDESC:Events for Wheels Up Bike Clinics, Teams, and Summer Camps.
REFRESH-INTERVAL;VALUE=DURATION:PT1H
X-Robots-Tag:noindex
X-PUBLISHED-TTL:PT1H
BEGIN:VTIMEZONE
TZID:America/New_York
BEGIN:DAYLIGHT
TZOFFSETFROM:-0500
TZOFFSETTO:-0400
TZNAME:EDT
DTSTART:20220313T070000
END:DAYLIGHT
BEGIN:STANDARD
TZOFFSETFROM:-0400
TZOFFSETTO:-0500
TZNAME:EST
DTSTART:20221106T060000
END:STANDARD
END:VTIMEZONE
BEGIN:VEVENT
DTSTART;TZID=America/New_York:20220820T090000
DTEND;TZID=America/New_York:20220821T193000
DTSTAMP:20260423T114912
CREATED:20220720T042409Z
LAST-MODIFIED:20220816T182808Z
UID:1562-1660986000-1661110200@wheelsupmtb.com
SUMMARY:Wheels Up SUPER SKILLS CLINIC! @ Hodge Park Kansas City
DESCRIPTION:Click here to REGISTER \n\nSaturday August 20th\n9am -12pm\nYouth MTB Foundations –\nLearn to Jump –\n1pm-4pm\nLearn to Jump –\n4:30pm-6:30\nMEGA Open Jump Jam  AIR BAGS!
URL:https://wheelsupmtb.com/event/cognition-coaching-wheels-up-super-skills-clinic-hodge-park-kansas-city/
LOCATION:Hodge Park
END:VEVENT
END:VCALENDAR