BEGIN:VCALENDAR
VERSION:2.0
PRODID:-//Wheels Up Bike Clinics, Teams, and Summer Camps. - ECPv5.16.1.1//NONSGML v1.0//EN
CALSCALE:GREGORIAN
METHOD:PUBLISH
X-ORIGINAL-URL:https://wheelsupmtb.com
X-WR-CALDESC:Events for Wheels Up Bike Clinics, Teams, and Summer Camps.
REFRESH-INTERVAL;VALUE=DURATION:PT1H
X-Robots-Tag:noindex
X-PUBLISHED-TTL:PT1H
BEGIN:VTIMEZONE
TZID:America/New_York
BEGIN:DAYLIGHT
TZOFFSETFROM:-0500
TZOFFSETTO:-0400
TZNAME:EDT
DTSTART:20220313T070000
END:DAYLIGHT
BEGIN:STANDARD
TZOFFSETFROM:-0400
TZOFFSETTO:-0500
TZNAME:EST
DTSTART:20221106T060000
END:STANDARD
END:VTIMEZONE
BEGIN:VEVENT
DTSTART;TZID=America/New_York:20221113T110000
DTEND;TZID=America/New_York:20221113T170000
DTSTAMP:20260421T090805
CREATED:20221010T044656Z
LAST-MODIFIED:20221010T044709Z
UID:1584-1668337200-1668358800@wheelsupmtb.com
SUMMARY:Wheels Up Omaha MTB Event November 13th
DESCRIPTION:Wheels Up Omaha MTB Event @ Chalco Hills Rec Area  \nNovember 13th \nClinics Available Sign Up HERE!\n \n  \nAdult Learn to Jump Skills Clinic 11:30-2pm\n Open Jump session 2:15pm-4:45pm
URL:https://wheelsupmtb.com/event/wheels-up-omaha-mtb-event-nov-13th/
LOCATION:Chalco Hills Rec Area Sledding Hill\, Omaha\, NE 68138
END:VEVENT
END:VCALENDAR