BEGIN:VCALENDAR
VERSION:2.0
PRODID:-//Wheels Up Bike Clinics, Teams, and Summer Camps. - ECPv5.16.1.1//NONSGML v1.0//EN
CALSCALE:GREGORIAN
METHOD:PUBLISH
X-ORIGINAL-URL:https://wheelsupmtb.com
X-WR-CALDESC:Events for Wheels Up Bike Clinics, Teams, and Summer Camps.
REFRESH-INTERVAL;VALUE=DURATION:PT1H
X-Robots-Tag:noindex
X-PUBLISHED-TTL:PT1H
BEGIN:VTIMEZONE
TZID:America/New_York
BEGIN:DAYLIGHT
TZOFFSETFROM:-0500
TZOFFSETTO:-0400
TZNAME:EDT
DTSTART:20220313T070000
END:DAYLIGHT
BEGIN:STANDARD
TZOFFSETFROM:-0400
TZOFFSETTO:-0500
TZNAME:EST
DTSTART:20221106T060000
END:STANDARD
END:VTIMEZONE
BEGIN:VEVENT
DTSTART;TZID=America/New_York:20221114T173000
DTEND;TZID=America/New_York:20221114T200000
DTSTAMP:20260421T090806
CREATED:20221021T042107Z
LAST-MODIFIED:20221021T042107Z
UID:1592-1668447000-1668456000@wheelsupmtb.com
SUMMARY:Women Only Learn to Jump Night in Omaha@ BMX Park in Omaha
DESCRIPTION:Women Only Learn to Jump Night in Omaha@ BMX Park in Omaha\n\nNovember 14th\n\nRegister HERE!\nWomen Only Learn to Jump Skills Clinic 5:30-8pm\nGoogle Link:\nhttps://goo.gl/maps/rUeDt9MuNkg4zvVq9
URL:https://wheelsupmtb.com/event/women-only-learn-to-jump-night-in-omaha-bmx-park-in-omaha/
LOCATION:11111 W Maple Rd\, Omaha\, NE 68164\, 11111 W Maple Rd\, Omaha\, NE 68164
END:VEVENT
END:VCALENDAR