BEGIN:VCALENDAR
VERSION:2.0
PRODID:-//Wheels Up Bike Clinics, Teams, and Summer Camps. - ECPv5.16.1.1//NONSGML v1.0//EN
CALSCALE:GREGORIAN
METHOD:PUBLISH
X-ORIGINAL-URL:https://wheelsupmtb.com
X-WR-CALDESC:Events for Wheels Up Bike Clinics, Teams, and Summer Camps.
REFRESH-INTERVAL;VALUE=DURATION:PT1H
X-Robots-Tag:noindex
X-PUBLISHED-TTL:PT1H
BEGIN:VTIMEZONE
TZID:America/New_York
BEGIN:DAYLIGHT
TZOFFSETFROM:-0500
TZOFFSETTO:-0400
TZNAME:EDT
DTSTART:20220313T070000
END:DAYLIGHT
BEGIN:STANDARD
TZOFFSETFROM:-0400
TZOFFSETTO:-0500
TZNAME:EST
DTSTART:20221106T060000
END:STANDARD
END:VTIMEZONE
BEGIN:VEVENT
DTSTART;TZID=America/New_York:20221021T160000
DTEND;TZID=America/New_York:20221021T183000
DTSTAMP:20260423T065700
CREATED:20220907T164622Z
LAST-MODIFIED:20220909T170348Z
UID:1574-1666368000-1666377000@wheelsupmtb.com
SUMMARY:Eureka Open Jump Event
DESCRIPTION:Click Here to Register!  \n4 Progressive Airbag Landing Sizes \n\nYouth:  1.5 ft Tall x 14.75 ft Long x 11.5 ft Width\nBeginner:  3.5” Tall x 11.5” Wide Long Run out (No Safety Sides)\nIntermediate:  5.5” Tall x 13” Wide + 6” extra safety flat bottom (Safety Sides included)\nAdvanced:  7.5” Tall x 14” Wide – 11.5” Long Run-Out (No Safety Sides)\nAlso smaller jumps and features for all abilities!
URL:https://wheelsupmtb.com/event/eureka-open-jump-event/
LOCATION:394 S Central Ave\, Eureka\, MO 63025\, 394 S Central Ave\, Eureka\, 63025\, United States
END:VEVENT
END:VCALENDAR